BEGIN:VCALENDAR
VERSION:2.0
PRODID:-//Watkins Glen Public Library - ECPv6.15.20//NONSGML v1.0//EN
CALSCALE:GREGORIAN
METHOD:PUBLISH
X-ORIGINAL-URL:https://watkinsglenlibrary.org
X-WR-CALDESC:Events for Watkins Glen Public Library
REFRESH-INTERVAL;VALUE=DURATION:PT1H
X-Robots-Tag:noindex
X-PUBLISHED-TTL:PT1H
BEGIN:VTIMEZONE
TZID:America/New_York
BEGIN:DAYLIGHT
TZOFFSETFROM:-0500
TZOFFSETTO:-0400
TZNAME:EDT
DTSTART:20250309T070000
END:DAYLIGHT
BEGIN:STANDARD
TZOFFSETFROM:-0400
TZOFFSETTO:-0500
TZNAME:EST
DTSTART:20251102T060000
END:STANDARD
BEGIN:DAYLIGHT
TZOFFSETFROM:-0500
TZOFFSETTO:-0400
TZNAME:EDT
DTSTART:20260308T070000
END:DAYLIGHT
BEGIN:STANDARD
TZOFFSETFROM:-0400
TZOFFSETTO:-0500
TZNAME:EST
DTSTART:20261101T060000
END:STANDARD
BEGIN:DAYLIGHT
TZOFFSETFROM:-0500
TZOFFSETTO:-0400
TZNAME:EDT
DTSTART:20270314T070000
END:DAYLIGHT
BEGIN:STANDARD
TZOFFSETFROM:-0400
TZOFFSETTO:-0500
TZNAME:EST
DTSTART:20271107T060000
END:STANDARD
END:VTIMEZONE
BEGIN:VEVENT
DTSTART;TZID=America/New_York:20260801T100000
DTEND;TZID=America/New_York:20260801T110000
DTSTAMP:20260421T132406
CREATED:20250702T150346Z
LAST-MODIFIED:20250702T150346Z
UID:10000220-1785578400-1785582000@watkinsglenlibrary.org
SUMMARY:Storytime
DESCRIPTION:Join Alexandra for weekly Storytimes on Wednesdays and Saturdays at 10:00am. Geared towards children under 5\, but all are welcome. The program features stories\, parachute play\, and often an art activity.
URL:https://watkinsglenlibrary.org/calendar/storytime-27/2026-08-01/
END:VEVENT
BEGIN:VEVENT
DTSTART;TZID=America/New_York:20260805T100000
DTEND;TZID=America/New_York:20260805T110000
DTSTAMP:20260421T132406
CREATED:20250702T150346Z
LAST-MODIFIED:20250702T150346Z
UID:10000221-1785924000-1785927600@watkinsglenlibrary.org
SUMMARY:Storytime
DESCRIPTION:Join Alexandra for weekly Storytimes on Wednesdays and Saturdays at 10:00am. Geared towards children under 5\, but all are welcome. The program features stories\, parachute play\, and often an art activity.
URL:https://watkinsglenlibrary.org/calendar/storytime-27/2026-08-05/
END:VEVENT
BEGIN:VEVENT
DTSTART;TZID=America/New_York:20260808T100000
DTEND;TZID=America/New_York:20260808T110000
DTSTAMP:20260421T132406
CREATED:20250702T150346Z
LAST-MODIFIED:20250702T150346Z
UID:10000222-1786183200-1786186800@watkinsglenlibrary.org
SUMMARY:Storytime
DESCRIPTION:Join Alexandra for weekly Storytimes on Wednesdays and Saturdays at 10:00am. Geared towards children under 5\, but all are welcome. The program features stories\, parachute play\, and often an art activity.
URL:https://watkinsglenlibrary.org/calendar/storytime-27/2026-08-08/
END:VEVENT
BEGIN:VEVENT
DTSTART;TZID=America/New_York:20260811T163000
DTEND;TZID=America/New_York:20260811T180000
DTSTAMP:20260421T132406
CREATED:20251208T163636Z
LAST-MODIFIED:20251208T163636Z
UID:10000846-1786465800-1786471200@watkinsglenlibrary.org
SUMMARY:Library Board Meeting
DESCRIPTION:Meetings are held in the Library Conference Room at 4:30pm.
URL:https://watkinsglenlibrary.org/calendar/library-board-meeting-8/
END:VEVENT
BEGIN:VEVENT
DTSTART;TZID=America/New_York:20260812T100000
DTEND;TZID=America/New_York:20260812T110000
DTSTAMP:20260421T132406
CREATED:20250702T150346Z
LAST-MODIFIED:20250702T150346Z
UID:10000223-1786528800-1786532400@watkinsglenlibrary.org
SUMMARY:Storytime
DESCRIPTION:Join Alexandra for weekly Storytimes on Wednesdays and Saturdays at 10:00am. Geared towards children under 5\, but all are welcome. The program features stories\, parachute play\, and often an art activity.
URL:https://watkinsglenlibrary.org/calendar/storytime-27/2026-08-12/
END:VEVENT
BEGIN:VEVENT
DTSTART;TZID=America/New_York:20260813T180000
DTEND;TZID=America/New_York:20260813T190000
DTSTAMP:20260421T132406
CREATED:20251119T161849Z
LAST-MODIFIED:20251119T161849Z
UID:10000693-1786644000-1786647600@watkinsglenlibrary.org
SUMMARY:Read to a Dog with Dale
DESCRIPTION:Join us on the 2nd and 4th Thursdays at 6-7pm for Read to a Dog! Dale is a certified therapy dog that loves to be read stories and spend time with people! He is also a big fan of pets. Great for all ages. Thank you to Kim and Dale for making this program possible.
URL:https://watkinsglenlibrary.org/calendar/read-to-a-dog-with-dale-3/2026-08-13/
END:VEVENT
BEGIN:VEVENT
DTSTART;TZID=America/New_York:20260813T180000
DTEND;TZID=America/New_York:20260813T190000
DTSTAMP:20260421T132406
CREATED:20251119T163001Z
LAST-MODIFIED:20251119T163001Z
UID:10000784-1786644000-1786647600@watkinsglenlibrary.org
SUMMARY:Read to a Dog with Dale
DESCRIPTION:Join us on the 2nd and 4th Thursdays at 6-7pm for Read to a Dog! Dale is a certified therapy dog that loves to be read stories and spend time with people! He is also a big fan of pets. Great for all ages. Thank you to Kim and Dale for making this program possible.
URL:https://watkinsglenlibrary.org/calendar/read-to-a-dog-with-dale-5/2026-08-13/
END:VEVENT
BEGIN:VEVENT
DTSTART;TZID=America/New_York:20260815T100000
DTEND;TZID=America/New_York:20260815T110000
DTSTAMP:20260421T132406
CREATED:20250702T150346Z
LAST-MODIFIED:20250702T150346Z
UID:10000224-1786788000-1786791600@watkinsglenlibrary.org
SUMMARY:Storytime
DESCRIPTION:Join Alexandra for weekly Storytimes on Wednesdays and Saturdays at 10:00am. Geared towards children under 5\, but all are welcome. The program features stories\, parachute play\, and often an art activity.
URL:https://watkinsglenlibrary.org/calendar/storytime-27/2026-08-15/
END:VEVENT
BEGIN:VEVENT
DTSTART;TZID=America/New_York:20260819T100000
DTEND;TZID=America/New_York:20260819T110000
DTSTAMP:20260421T132406
CREATED:20250702T150346Z
LAST-MODIFIED:20250702T150346Z
UID:10000225-1787133600-1787137200@watkinsglenlibrary.org
SUMMARY:Storytime
DESCRIPTION:Join Alexandra for weekly Storytimes on Wednesdays and Saturdays at 10:00am. Geared towards children under 5\, but all are welcome. The program features stories\, parachute play\, and often an art activity.
URL:https://watkinsglenlibrary.org/calendar/storytime-27/2026-08-19/
END:VEVENT
BEGIN:VEVENT
DTSTART;TZID=America/New_York:20260822T100000
DTEND;TZID=America/New_York:20260822T110000
DTSTAMP:20260421T132406
CREATED:20250702T150346Z
LAST-MODIFIED:20250702T150346Z
UID:10000226-1787392800-1787396400@watkinsglenlibrary.org
SUMMARY:Storytime
DESCRIPTION:Join Alexandra for weekly Storytimes on Wednesdays and Saturdays at 10:00am. Geared towards children under 5\, but all are welcome. The program features stories\, parachute play\, and often an art activity.
URL:https://watkinsglenlibrary.org/calendar/storytime-27/2026-08-22/
END:VEVENT
BEGIN:VEVENT
DTSTART;TZID=America/New_York:20260826T100000
DTEND;TZID=America/New_York:20260826T110000
DTSTAMP:20260421T132406
CREATED:20250702T150346Z
LAST-MODIFIED:20250702T150346Z
UID:10000227-1787738400-1787742000@watkinsglenlibrary.org
SUMMARY:Storytime
DESCRIPTION:Join Alexandra for weekly Storytimes on Wednesdays and Saturdays at 10:00am. Geared towards children under 5\, but all are welcome. The program features stories\, parachute play\, and often an art activity.
URL:https://watkinsglenlibrary.org/calendar/storytime-27/2026-08-26/
END:VEVENT
BEGIN:VEVENT
DTSTART;TZID=America/New_York:20260827T180000
DTEND;TZID=America/New_York:20260827T190000
DTSTAMP:20260421T132406
CREATED:20251119T161955Z
LAST-MODIFIED:20251119T161955Z
UID:10000726-1787853600-1787857200@watkinsglenlibrary.org
SUMMARY:Read to a Dog with Dale
DESCRIPTION:Join us on the 2nd and 4th Thursdays at 6-7pm for Read to a Dog! Dale is a certified therapy dog that loves to be read stories and spend time with people! He is also a big fan of pets. Great for all ages. Thank you to Kim and Dale for making this program possible.
URL:https://watkinsglenlibrary.org/calendar/read-to-a-dog-with-dale-4/2026-08-27/
END:VEVENT
BEGIN:VEVENT
DTSTART;TZID=America/New_York:20260828T143000
DTEND;TZID=America/New_York:20260828T163000
DTSTAMP:20260421T132406
CREATED:20260325T152806Z
LAST-MODIFIED:20260325T152806Z
UID:10000862-1787927400-1787934600@watkinsglenlibrary.org
SUMMARY:90's Movie Afternoon: Richie Rich (PG)
DESCRIPTION:TO REGISTER: Call (607) 535-2346\, email wgldirector@stls.org or send a Facebook message. The movie will start promptly at 2:30pm. Run-time: 1 hour\, 45 mins | Open to all ages (Rated PG).
URL:https://watkinsglenlibrary.org/calendar/90s-movie-afternoon-richie-rich-pg/
END:VEVENT
BEGIN:VEVENT
DTSTART;TZID=America/New_York:20260829T100000
DTEND;TZID=America/New_York:20260829T110000
DTSTAMP:20260421T132406
CREATED:20250702T150346Z
LAST-MODIFIED:20250702T150346Z
UID:10000228-1787997600-1788001200@watkinsglenlibrary.org
SUMMARY:Storytime
DESCRIPTION:Join Alexandra for weekly Storytimes on Wednesdays and Saturdays at 10:00am. Geared towards children under 5\, but all are welcome. The program features stories\, parachute play\, and often an art activity.
URL:https://watkinsglenlibrary.org/calendar/storytime-27/2026-08-29/
END:VEVENT
END:VCALENDAR